BEGIN:VCALENDAR
VERSION:2.0
PRODID:-//demosphere.net//NONSGML kigkonsult.se iCalcreator 2.22.1//
METHOD:REQUEST
X-WR-TIMEZONE:Europe/Paris
BEGIN:VEVENT
UID:https://05.demosphere.net/rv/5051
DTSTAMP:20260428T160000Z
DESCRIPTION:plus d'infos sur : https://05.demosphere.net/rv/5051
DTSTART:20260428T160000Z
DTEND:20260428T170000Z
LOCATION:Veynes\, \nQuai des Arts
SUMMARY:Parole aux citoyen·nes : construisons le numérique de demain
URL:https://05.demosphere.net/rv/5051
END:VEVENT
END:VCALENDAR
